Workbook

Sheet 제2전공 선택시 자격기준
C2: 2027학년도 제2전공 선택 자격 기준
C3: 타학부의 기본트랙을 제2전공으로 선택시 자격기준이 있을 수 있습니다. 아래에서 확인하시기 바랍니다.
C4: 제2전공 희망 전공트랙
C5: 단과대학 | D5: 학부 | E5: 희망 전공트랙
C6: =IF($E$6="","",IF($L$10="","일치하는 트랙 없음",INDEX(DB!$A$2:$A$87,$L$10))) -> 미래엔지니어링융합대학 | D6: =IF($E$6="","",IF($L$10="","일치하는 트랙 없음",INDEX(DB!$B$2:$B$87,$L$10))) -> 미래모빌리티공학부 | E6: 기계자동차공학기본트랙 | F6: ☜ 제2전공 희망 전공트랙 선택
C7: ※ 유의사항: 25학번 입학자의 경우 제2전공 기본트랙 자격기준 대상에서 제외됩니다.
C8: <자격 기준>
C9: 단과대학 | D9: 학부 | E9: 전공트랙 | F9: 과목코드 | G9: 과목명 | H9: 과목성적 | I9: 과목이수조건 | J9: 평점평균 | L9: 조회행(내부)
C10: =IF($E$6="","",IF($L10="","일치하는 트랙 정보가 없습니다.",IF(INDEX(DB!$A$2:$A$87,$L10)="","",INDEX(DB!$A$2:$A$87,$L10)))) -> 미래엔지니어링융합대학 | D10: =IF($E$6="","",IF($L10="","",IF(INDEX(DB!$B$2:$B$87,$L10)="","",INDEX(DB!$B$2:$B$87,$L10)))) -> 미래모빌리티공학부 | E10: =IF($E$6="","",IF($L10="","",IF(INDEX(DB!$C$2:$C$87,$L10)="","",INDEX(DB!$C$2:$C$87,$L10)))) -> 기계자동차공학기본트랙 | F10: =IF($E$6="","",IF($L10="","",IF(INDEX(DB!$D$2:$D$87,$L10)="","",INDEX(DB!$D$2:$D$87,$L10)))) -> E01310 | G10: =IF($E$6="","",IF($L10="","",IF(INDEX(DB!$E$2:$E$87,$L10)="","",INDEX(DB!$E$2:$E$87,$L10)))) -> 일반물리학I | H10: =IF($E$6="","",IF($L10="","",IF(INDEX(DB!$F$2:$F$87,$L10)="","",INDEX(DB!$F$2:$F$87,$L10)))) -> B0이상 | I10: =IF($E$6="","",IF($L10="","",IF(INDEX(DB!$J$2:$J$87,$L10)="","",INDEX(DB!$J$2:$J$87,$L10)))) -> 필수 이수 | J10: =IF($E$6="","",IF($L10="","",IF(INDEX(DB!$K$2:$K$87,$L10)="","",INDEX(DB!$K$2:$K$87,$L10)))) -> 평점평균 3.5 이상 | L10: =IFERROR(MATCH(ROWS($L$10:L10),DB!$I$2:$I$87,0),"") -> 1
C11: =IF($E$6="","",IF($L11="","",IF(INDEX(DB!$A$2:$A$87,$L11)="","",INDEX(DB!$A$2:$A$87,$L11)))) -> 미래엔지니어링융합대학 | D11: =IF($E$6="","",IF($L11="","",IF(INDEX(DB!$B$2:$B$87,$L11)="","",INDEX(DB!$B$2:$B$87,$L11)))) -> 미래모빌리티공학부 | E11: =IF($E$6="","",IF($L11="","",IF(INDEX(DB!$C$2:$C$87,$L11)="","",INDEX(DB!$C$2:$C$87,$L11)))) -> 기계자동차공학기본트랙 | F11: =IF($E$6="","",IF($L11="","",IF(INDEX(DB!$D$2:$D$87,$L11)="","",INDEX(DB!$D$2:$D$87,$L11)))) -> E01313 | G11: =IF($E$6="","",IF($L11="","",IF(INDEX(DB!$E$2:$E$87,$L11)="","",INDEX(DB!$E$2:$E$87,$L11)))) -> 일반물리학II | H11: =IF($E$6="","",IF($L11="","",IF(INDEX(DB!$F$2:$F$87,$L11)="","",INDEX(DB!$F$2:$F$87,$L11)))) -> B0이상 | I11: =IF($E$6="","",IF($L11="","",IF(INDEX(DB!$J$2:$J$87,$L11)="","",INDEX(DB!$J$2:$J$87,$L11)))) -> 필수 이수 | J11: =IF($E$6="","",IF($L11="","",IF(INDEX(DB!$K$2:$K$87,$L11)="","",INDEX(DB!$K$2:$K$87,$L11)))) -> 평점평균 3.5 이상 | L11: =IFERROR(MATCH(ROWS($L$10:L11),DB!$I$2:$I$87,0),"") -> 2
C12: =IF($E$6="","",IF($L12="","",IF(INDEX(DB!$A$2:$A$87,$L12)="","",INDEX(DB!$A$2:$A$87,$L12)))) -> 미래엔지니어링융합대학 | D12: =IF($E$6="","",IF($L12="","",IF(INDEX(DB!$B$2:$B$87,$L12)="","",INDEX(DB!$B$2:$B$87,$L12)))) -> 미래모빌리티공학부 | E12: =IF($E$6="","",IF($L12="","",IF(INDEX(DB!$C$2:$C$87,$L12)="","",INDEX(DB!$C$2:$C$87,$L12)))) -> 기계자동차공학기본트랙 | F12: =IF($E$6="","",IF($L12="","",IF(INDEX(DB!$D$2:$D$87,$L12)="","",INDEX(DB!$D$2:$D$87,$L12)))) -> E01316 | G12: =IF($E$6="","",IF($L12="","",IF(INDEX(DB!$E$2:$E$87,$L12)="","",INDEX(DB!$E$2:$E$87,$L12)))) -> 미적분학I | H12: =IF($E$6="","",IF($L12="","",IF(INDEX(DB!$F$2:$F$87,$L12)="","",INDEX(DB!$F$2:$F$87,$L12)))) -> B0이상 | I12: =IF($E$6="","",IF($L12="","",IF(INDEX(DB!$J$2:$J$87,$L12)="","",INDEX(DB!$J$2:$J$87,$L12)))) -> 필수 이수 | J12: =IF($E$6="","",IF($L12="","",IF(INDEX(DB!$K$2:$K$87,$L12)="","",INDEX(DB!$K$2:$K$87,$L12)))) -> 평점평균 3.5 이상 | L12: =IFERROR(MATCH(ROWS($L$10:L12),DB!$I$2:$I$87,0),"") -> 3
C13: =IF($E$6="","",IF($L13="","",IF(INDEX(DB!$A$2:$A$87,$L13)="","",INDEX(DB!$A$2:$A$87,$L13)))) -> 미래엔지니어링융합대학 | D13: =IF($E$6="","",IF($L13="","",IF(INDEX(DB!$B$2:$B$87,$L13)="","",INDEX(DB!$B$2:$B$87,$L13)))) -> 미래모빌리티공학부 | E13: =IF($E$6="","",IF($L13="","",IF(INDEX(DB!$C$2:$C$87,$L13)="","",INDEX(DB!$C$2:$C$87,$L13)))) -> 기계자동차공학기본트랙 | F13: =IF($E$6="","",IF($L13="","",IF(INDEX(DB!$D$2:$D$87,$L13)="","",INDEX(DB!$D$2:$D$87,$L13)))) -> E01317 | G13: =IF($E$6="","",IF($L13="","",IF(INDEX(DB!$E$2:$E$87,$L13)="","",INDEX(DB!$E$2:$E$87,$L13)))) -> 미적분학II | H13: =IF($E$6="","",IF($L13="","",IF(INDEX(DB!$F$2:$F$87,$L13)="","",INDEX(DB!$F$2:$F$87,$L13)))) -> B0이상 | I13: =IF($E$6="","",IF($L13="","",IF(INDEX(DB!$J$2:$J$87,$L13)="","",INDEX(DB!$J$2:$J$87,$L13)))) -> 필수 이수 | J13: =IF($E$6="","",IF($L13="","",IF(INDEX(DB!$K$2:$K$87,$L13)="","",INDEX(DB!$K$2:$K$87,$L13)))) -> 평점평균 3.5 이상 | L13: =IFERROR(MATCH(ROWS($L$10:L13),DB!$I$2:$I$87,0),"") -> 4
C14: =IF($E$6="","",IF($L14="","",IF(INDEX(DB!$A$2:$A$87,$L14)="","",INDEX(DB!$A$2:$A$87,$L14)))) -> 미래엔지니어링융합대학 | D14: =IF($E$6="","",IF($L14="","",IF(INDEX(DB!$B$2:$B$87,$L14)="","",INDEX(DB!$B$2:$B$87,$L14)))) -> 미래모빌리티공학부 | E14: =IF($E$6="","",IF($L14="","",IF(INDEX(DB!$C$2:$C$87,$L14)="","",INDEX(DB!$C$2:$C$87,$L14)))) -> 기계자동차공학기본트랙 | F14: =IF($E$6="","",IF($L14="","",IF(INDEX(DB!$D$2:$D$87,$L14)="","",INDEX(DB!$D$2:$D$87,$L14)))) -> E01161 | G14: =IF($E$6="","",IF($L14="","",IF(INDEX(DB!$E$2:$E$87,$L14)="","",INDEX(DB!$E$2:$E$87,$L14)))) -> 일반화학 | H14: =IF($E$6="","",IF($L14="","",IF(INDEX(DB!$F$2:$F$87,$L14)="","",INDEX(DB!$F$2:$F$87,$L14)))) -> B0이상 | I14: =IF($E$6="","",IF($L14="","",IF(INDEX(DB!$J$2:$J$87,$L14)="","",INDEX(DB!$J$2:$J$87,$L14)))) -> 필수 이수 | J14: =IF($E$6="","",IF($L14="","",IF(INDEX(DB!$K$2:$K$87,$L14)="","",INDEX(DB!$K$2:$K$87,$L14)))) -> 평점평균 3.5 이상 | L14: =IFERROR(MATCH(ROWS($L$10:L14),DB!$I$2:$I$87,0),"") -> 5
C15: =IF($E$6="","",IF($L15="","",IF(INDEX(DB!$A$2:$A$87,$L15)="","",INDEX(DB!$A$2:$A$87,$L15)))) | D15: =IF($E$6="","",IF($L15="","",IF(INDEX(DB!$B$2:$B$87,$L15)="","",INDEX(DB!$B$2:$B$87,$L15)))) | E15: =IF($E$6="","",IF($L15="","",IF(INDEX(DB!$C$2:$C$87,$L15)="","",INDEX(DB!$C$2:$C$87,$L15)))) | F15: =IF($E$6="","",IF($L15="","",IF(INDEX(DB!$D$2:$D$87,$L15)="","",INDEX(DB!$D$2:$D$87,$L15)))) | G15: =IF($E$6="","",IF($L15="","",IF(INDEX(DB!$E$2:$E$87,$L15)="","",INDEX(DB!$E$2:$E$87,$L15)))) | H15: =IF($E$6="","",IF($L15="","",IF(INDEX(DB!$F$2:$F$87,$L15)="","",INDEX(DB!$F$2:$F$87,$L15)))) | I15: =IF($E$6="","",IF($L15="","",IF(INDEX(DB!$J$2:$J$87,$L15)="","",INDEX(DB!$J$2:$J$87,$L15)))) | J15: =IF($E$6="","",IF($L15="","",IF(INDEX(DB!$K$2:$K$87,$L15)="","",INDEX(DB!$K$2:$K$87,$L15)))) | L15: =IFERROR(MATCH(ROWS($L$10:L15),DB!$I$2:$I$87,0),"")
C16: =IF($E$6="","",IF($L16="","",IF(INDEX(DB!$A$2:$A$87,$L16)="","",INDEX(DB!$A$2:$A$87,$L16)))) | D16: =IF($E$6="","",IF($L16="","",IF(INDEX(DB!$B$2:$B$87,$L16)="","",INDEX(DB!$B$2:$B$87,$L16)))) | E16: =IF($E$6="","",IF($L16="","",IF(INDEX(DB!$C$2:$C$87,$L16)="","",INDEX(DB!$C$2:$C$87,$L16)))) | F16: =IF($E$6="","",IF($L16="","",IF(INDEX(DB!$D$2:$D$87,$L16)="","",INDEX(DB!$D$2:$D$87,$L16)))) | G16: =IF($E$6="","",IF($L16="","",IF(INDEX(DB!$E$2:$E$87,$L16)="","",INDEX(DB!$E$2:$E$87,$L16)))) | H16: =IF($E$6="","",IF($L16="","",IF(INDEX(DB!$F$2:$F$87,$L16)="","",INDEX(DB!$F$2:$F$87,$L16)))) | I16: =IF($E$6="","",IF($L16="","",IF(INDEX(DB!$J$2:$J$87,$L16)="","",INDEX(DB!$J$2:$J$87,$L16)))) | J16: =IF($E$6="","",IF($L16="","",IF(INDEX(DB!$K$2:$K$87,$L16)="","",INDEX(DB!$K$2:$K$87,$L16)))) | L16: =IFERROR(MATCH(ROWS($L$10:L16),DB!$I$2:$I$87,0),"")
C17: =IF($E$6="","",IF($L17="","",IF(INDEX(DB!$A$2:$A$87,$L17)="","",INDEX(DB!$A$2:$A$87,$L17)))) | D17: =IF($E$6="","",IF($L17="","",IF(INDEX(DB!$B$2:$B$87,$L17)="","",INDEX(DB!$B$2:$B$87,$L17)))) | E17: =IF($E$6="","",IF($L17="","",IF(INDEX(DB!$C$2:$C$87,$L17)="","",INDEX(DB!$C$2:$C$87,$L17)))) | F17: =IF($E$6="","",IF($L17="","",IF(INDEX(DB!$D$2:$D$87,$L17)="","",INDEX(DB!$D$2:$D$87,$L17)))) | G17: =IF($E$6="","",IF($L17="","",IF(INDEX(DB!$E$2:$E$87,$L17)="","",INDEX(DB!$E$2:$E$87,$L17)))) | H17: =IF($E$6="","",IF($L17="","",IF(INDEX(DB!$F$2:$F$87,$L17)="","",INDEX(DB!$F$2:$F$87,$L17)))) | I17: =IF($E$6="","",IF($L17="","",IF(INDEX(DB!$J$2:$J$87,$L17)="","",INDEX(DB!$J$2:$J$87,$L17)))) | J17: =IF($E$6="","",IF($L17="","",IF(INDEX(DB!$K$2:$K$87,$L17)="","",INDEX(DB!$K$2:$K$87,$L17)))) | L17: =IFERROR(MATCH(ROWS($L$10:L17),DB!$I$2:$I$87,0),"")
C18: =IF($E$6="","",IF($L18="","",IF(INDEX(DB!$A$2:$A$87,$L18)="","",INDEX(DB!$A$2:$A$87,$L18)))) | D18: =IF($E$6="","",IF($L18="","",IF(INDEX(DB!$B$2:$B$87,$L18)="","",INDEX(DB!$B$2:$B$87,$L18)))) | E18: =IF($E$6="","",IF($L18="","",IF(INDEX(DB!$C$2:$C$87,$L18)="","",INDEX(DB!$C$2:$C$87,$L18)))) | F18: =IF($E$6="","",IF($L18="","",IF(INDEX(DB!$D$2:$D$87,$L18)="","",INDEX(DB!$D$2:$D$87,$L18)))) | G18: =IF($E$6="","",IF($L18="","",IF(INDEX(DB!$E$2:$E$87,$L18)="","",INDEX(DB!$E$2:$E$87,$L18)))) | H18: =IF($E$6="","",IF($L18="","",IF(INDEX(DB!$F$2:$F$87,$L18)="","",INDEX(DB!$F$2:$F$87,$L18)))) | I18: =IF($E$6="","",IF($L18="","",IF(INDEX(DB!$J$2:$J$87,$L18)="","",INDEX(DB!$J$2:$J$87,$L18)))) | J18: =IF($E$6="","",IF($L18="","",IF(INDEX(DB!$K$2:$K$87,$L18)="","",INDEX(DB!$K$2:$K$87,$L18)))) | L18: =IFERROR(MATCH(ROWS($L$10:L18),DB!$I$2:$I$87,0),"")

Sheet 기본트랙현황
A1: 단과대학 | B1: 학부 | C1: 전공트랙명
A2: 미래엔지니어링융합대학 | B2: 미래모빌리티공학부 | C2: 기계자동차공학기본트랙
A3: 미래엔지니어링융합대학 | B3: 미래모빌리티공학부 | C3: 항공우주공학기본트랙
A4: 미래엔지니어링융합대학 | B4: 미래모빌리티공학부 | C4: 조선해양공학기본트랙
A5: 미래엔지니어링융합대학 | B5: 에너지화학공학부 | C5: 화학공학기본트랙
A6: 미래엔지니어링융합대학 | B6: 에너지화학공학부 | C6: 에너지분자공학기본트랙
A7: 미래엔지니어링융합대학 | B7: 신소재·반도체융합학부 | C7: 신소재공학기본트랙
A8: 미래엔지니어링융합대학 | B8: 신소재·반도체융합학부 | C8: 나노반도체공학기본트랙
A9: 미래엔지니어링융합대학 | B9: 전기전자융합학부 | C9: 전기전자공학기본트랙
A10: 미래엔지니어링융합대학 | B10: 전기전자융합학부 | C10: 스마트반도체설계융합기본트랙
A11: 미래엔지니어링융합대학 | B11: ICT융합학부 | C11: 컴퓨터공학기본트랙
A12: 미래엔지니어링융합대학 | B12: ICT융합학부 | C12: 인공지능기본트랙
... A53: 인문예술대학 | B53: 예술학부 | C53: 입체조형예술기본트랙

Sheet 융복합트랙현황
A1: 주관 학부 | B1: 참여 전공 | C1: 전공트랙명
A2: 에너지화학공학부 | B2: 기계자동차공학, 에너지분자공학, 신소재공학, 전기전자공학, 스마트반도체설계융합, 건설환경공학 | C2: 이차전지융합
A3: 에너지화학공학부 | B3: 기계자동차공학, 에너지분자공학, 신소재공학, 전기전자공학, 스마트반도체설계융합, 건설환경공학 | C3: 이차전지소재·부품
A4: 에너지화학공학부 | B4: 기계자동차공학, 에너지분자공학, 신소재공학, 전기전자공학, 스마트반도체설계융합, 건설환경공학 | C4: 이차전지사용후·재활용
A5: ICT융합학부 | B5: 인공지능, 조선해양공학 | C5: 조선해양AX
A6: ICT융합학부 | B6: 인공지능, 디지털의료공학 | C6: 의료AI
A7: 공공인재학부 | B7: 국제관계학, 경제학, 스페인어·중남미학, 프랑스어·프랑스학 | C7: 국제지역·통상학
A8: 공공인재학부 | B8: 스포츠응용산업, 국제관계학, 법학, 경제학, 스페인어·중남미학, 일본어·일본학, ﻿역사·문화학 | C8: 글로벌마이스(MICE)
A9: 공공인재학부 | B9: 행정학, 국제관계학, 사회복지학, 법학, 경제학, 스페인어·중남미학 | C9: 기후변화융합
A10: 경영경제융합학부 | B10: 산업ICT공학, 산업안전공학, 경영학, 회계학, 빅데이터경영학 | C10: 앙트러프러너십

Sheet 마이크로특화트랙현황
A1: 주관 학부 | B1: 참여 트랙 | C1: 트랙명
A2: 미래모빌리티공학부 | B2: 기계자동차공학 | C2: 스마트팩토리시스템
A3: 미래모빌리티공학부 | B3: 조선해양공학, 전기전자공학 | C3: 해양모빌리티전동화
A4: 미래모빌리티공학부 | B4: 기계자동차공학, 전기전자공학, 인공지능 | C4: 스마트모빌리티
A5: 미래모빌리티공학부 | B5: 조선해양공학, 전기전자공학, 인공지능 | C5: ﻿해양모빌리티전동․지능화
A6: 에너지화학공학부 | B6: 화학공학, 나노반도체공학, 신소재공학, 기계자동차공학, 전기전자공학, 건설환경공학 | C6: 이차전지셀
A7: 에너지화학공학부 | B7: 화학공학, 나노반도체공학, 신소재공학, 기계자동차공학, 전기전자공학, 건설환경공학 | C7: 이차전지시스템DX
A8: 에너지화학공학부 | C8: 화학산업고도화
A9: 신소재·반도체융합학부 | B9: 신소재공학 | C9: 미래모빌리티소재부품
A10: 신소재·반도체융합학부 | B10: 신소재공학 | C10: 반도체·전자부품
A11: 신소재·반도체융합학부 | B11: 신소재공학 | C11: 배터리·에너지소재
A12: 신소재·반도체융합학부 | B12: 신소재공학 | C12: 철강·비철금속
A13: 전기전자융합학부 | C13: 전기추진해양모빌리티
A14: 전기전자융합학부 | C14: e-모빌리티 전동화
A15: 전기전자융합학부 | C15: e-모빌리티 자율화
A16: 전기전자융합학부 | C16: e-모빌리티 반도체
A17: 전기전자융합학부 | C17: 엣지 인공지능
A18: ICT융합학부 | B18: 데이터응용수학 | C18: 기초수리과학
A19: ICT융합학부 | B19: 산업ICT공학 | C19: AI자율제조
A20: ICT융합학부 | B20: 인공지능, 산업ICT공학 | C20: 스마트팩토리ICT
A21: ICT융합학부 | B21: 산업안전공학, 산업ICT공학 | C21: 스마트안전보건
A22: ICT융합학부 | B22: 컴퓨터공학, 인공지능 | C22: AI융합창업
A23: 바이오메디컬헬스학부 | B23: 인공지능, 디지털의료공학 | C23: AI의료공학
A24: 건축·도시환경공학부 | B24: 건설환경공학, 화학공학 | C24: 탄소중립환경·에너지융합
A25: 건축·도시환경학부 | B25: 건축학 | C25: 친환경건축설계
A26: 스포츠과학부 | B26: 스포츠응용산업, 운동건강관리 | C26: 스포츠문화산업
A27: 스포츠과학부 | B27: 스포츠응용산업, 운동건강관리 | C27: 스포츠과학스페셜리스트
A28: 공공인재학부 | B28: 국제관계학 | C28: 국제개발협력
A29: 공공인재학부 | B29: 국제관계학, 사회복지학, 법학, 행정학, 경제학 | C29: 기후변화대응
... A46: 예술학부 | B46: 미디어아트·회화, 입체조형예술 | C46: ﻿영화․무대미술

Sheet DB
A1: 단과대학 | B1: 소속학부 | C1: 제2전공기본트랙 | D1: 과목코드 | E1: 과목명 | F1: 성적 | G1: 과목이수조건 | H1: 평점평균 | I1: 조회순번 | J1: 과목이수조건(조회용) | K1: 평점평균(조회용)
A2: 미래엔지니어링융합대학 | B2: 미래모빌리티공학부 | C2: 기계자동차공학기본트랙 | D2: E01310 | E2: 일반물리학I | F2: B0이상 | G2: 필수 이수 | H2: 평점평균 3.5 이상 | I2: =IF(AND('제2전공 선택시 자격기준'!$E$6<>"",$C2='제2전공 선택시 자격기준'!$E$6),COUNTIF($C$2:C2,C2),"") -> 1 | J2: =IF(G2="","",G2) -> 필수 이수 | K2: =IF(H2="","",H2) -> 평점평균 3.5 이상
A3: 미래엔지니어링융합대학 | B3: 미래모빌리티공학부 | C3: 기계자동차공학기본트랙 | D3: E01313 | E3: 일반물리학II | F3: B0이상 | I3: =IF(AND('제2전공 선택시 자격기준'!$E$6<>"",$C3='제2전공 선택시 자격기준'!$E$6),COUNTIF($C$2:C3,C3),"") -> 2 | J3: =IF(G2="","",G2) -> 필수 이수 | K3: =IF(H2="","",H2) -> 평점평균 3.5 이상
A4: 미래엔지니어링융합대학 | B4: 미래모빌리티공학부 | C4: 기계자동차공학기본트랙 | D4: E01316 | E4: 미적분학I | F4: B0이상 | I4: =IF(AND('제2전공 선택시 자격기준'!$E$6<>"",$C4='제2전공 선택시 자격기준'!$E$6),COUNTIF($C$2:C4,C4),"") -> 3 | J4: =IF(G2="","",G2) -> 필수 이수 | K4: =IF(H2="","",H2) -> 평점평균 3.5 이상
A5: 미래엔지니어링융합대학 | B5: 미래모빌리티공학부 | C5: 기계자동차공학기본트랙 | D5: E01317 | E5: 미적분학II | F5: B0이상 | I5: =IF(AND('제2전공 선택시 자격기준'!$E$6<>"",$C5='제2전공 선택시 자격기준'!$E$6),COUNTIF($C$2:C5,C5),"") -> 4 | J5: =IF(G2="","",G2) -> 필수 이수 | K5: =IF(H2="","",H2) -> 평점평균 3.5 이상
A6: 미래엔지니어링융합대학 | B6: 미래모빌리티공학부 | C6: 기계자동차공학기본트랙 | D6: E01161 | E6: 일반화학 | F6: B0이상 | I6: =IF(AND('제2전공 선택시 자격기준'!$E$6<>"",$C6='제2전공 선택시 자격기준'!$E$6),COUNTIF($C$2:C6,C6),"") -> 5 | J6: =IF(G2="","",G2) -> 필수 이수 | K6: =IF(H2="","",H2) -> 평점평균 3.5 이상
A7: 미래엔지니어링융합대학 | B7: 미래모빌리티공학부 | C7: 항공우주공학기본트랙 | D7: E01310 | E7: 일반물리학I | F7: D0이상 | G7: 필수 이수 | H7: - | I7: =IF(AND('제2전공 선택시 자격기준'!$E$6<>"",$C7='제2전공 선택시 자격기준'!$E$6),COUNTIF($C$2:C7,C7),"") | J7: =IF(G7="","",G7) -> 필수 이수 | K7: =IF(H7="","",H7) -> -
A8: 미래엔지니어링융합대학 | B8: 미래모빌리티공학부 | C8: 항공우주공학기본트랙 | D8: E01316 | E8: 미적분학I | F8: D0이상 | I8: =IF(AND('제2전공 선택시 자격기준'!$E$6<>"",$C8='제2전공 선택시 자격기준'!$E$6),COUNTIF($C$2:C8,C8),"") | J8: =IF(G7="","",G7) -> 필수 이수 | K8: =IF(H7="","",H7) -> -
A9: 미래엔지니어링융합대학 | B9: 미래모빌리티공학부 | C9: 조선해양공학기본트랙 | D9: 해당없음 | E9: - | F9: - | G9: - | H9: - | I9: =IF(AND('제2전공 선택시 자격기준'!$E$6<>"",$C9='제2전공 선택시 자격기준'!$E$6),COUNTIF($C$2:C9,C9),"") | J9: =IF(G9="","",G9) -> - | K9: =IF(H9="","",H9) -> -
A10: 미래엔지니어링융합대학 | B10: 에너지화학공학부 | C10: 화학공학기본트랙 | D10: E01316 | E10: 미적분학I | F10: B0이상 | G10: 필수 이수 | H10: 평점평균 3.5 이상 | I10: =IF(AND('제2전공 선택시 자격기준'!$E$6<>"",$C10='제2전공 선택시 자격기준'!$E$6),COUNTIF($C$2:C10,C10),"") | J10: =IF(G10="","",G10) -> 필수 이수 | K10: =IF(H10="","",H10) -> 평점평균 3.5 이상
A11: 미래엔지니어링융합대학 | B11: 에너지화학공학부 | C11: 화학공학기본트랙 | D11: E01317 | E11: 미적분학II | F11: B0이상 | I11: =IF(AND('제2전공 선택시 자격기준'!$E$6<>"",$C11='제2전공 선택시 자격기준'!$E$6),COUNTIF($C$2:C11,C11),"") | J11: =IF(G10="","",G10) -> 필수 이수 | K11: =IF(H10="","",H10) -> 평점평균 3.5 이상
A12: 미래엔지니어링융합대학 | B12: 에너지화학공학부 | C12: 에너지분자공학기본트랙 | D12: - | E12: - | F12: - | G12: - | H12: - | I12: =IF(AND('제2전공 선택시 자격기준'!$E$6<>"",$C12='제2전공 선택시 자격기준'!$E$6),COUNTIF($C$2:C12,C12),"") | J12: =IF(G12="","",G12) -> - | K12: =IF(H12="","",H12) -> -
A13: 미래엔지니어링융합대학 | B13: 신소재·반도체융합학부 | C13: 신소재공학기본트랙 | D13: - | E13: - | F13: - | G13: - | H13: 평점평균 2.5 이상 | I13: =IF(AND('제2전공 선택시 자격기준'!$E$6<>"",$C13='제2전공 선택시 자격기준'!$E$6),COUNTIF($C$2:C13,C13),"") | J13: =IF(G13="","",G13) -> - | K13: =IF(H13="","",H13) -> 평점평균 2.5 이상
A14: 미래엔지니어링융합대학 | B14: 신소재·반도체융합학부 | C14: 나노반도체공학기본트랙 | D14: E01328 | E14: 미적분학I | F14: C0이상 | G14: 필수 이수 | H14: 평점평균 2.5 이상 | I14: =IF(AND('제2전공 선택시 자격기준'!$E$6<>"",$C14='제2전공 선택시 자격기준'!$E$6),COUNTIF($C$2:C14,C14),"") | J14: =IF(G14="","",G14) -> 필수 이수 | K14: =IF(H14="","",H14) -> 평점평균 2.5 이상
A15: 미래엔지니어링융합대학 | B15: 신소재·반도체융합학부 | C15: 나노반도체공학기본트랙 | D15: E01311 | E15: 일반물리학I | F15: C0이상 | I15: =IF(AND('제2전공 선택시 자격기준'!$E$6<>"",$C15='제2전공 선택시 자격기준'!$E$6),COUNTIF($C$2:C15,C15),"") | J15: =IF(G14="","",G14) -> 필수 이수 | K15: =IF(H14="","",H14) -> 평점평균 2.5 이상
A16: 미래엔지니어링융합대학 | B16: 신소재·반도체융합학부 | C16: 나노반도체공학기본트랙 | D16: E01312 | E16: 일반물리학II | F16: C0이상 | I16: =IF(AND('제2전공 선택시 자격기준'!$E$6<>"",$C16='제2전공 선택시 자격기준'!$E$6),COUNTIF($C$2:C16,C16),"") | J16: =IF(G14="","",G14) -> 필수 이수 | K16: =IF(H14="","",H14) -> 평점평균 2.5 이상
A17: 미래엔지니어링융합대학 | B17: 전기전자융합학부 | C17: 전기전자공학기본트랙 | D17: E01310 | E17: 일반물리학I | F17: B0이상 | G17: 제시된 과목 중 3과목 이상 이수 | H17: 평점평균 3.5 이상 | I17: =IF(AND('제2전공 선택시 자격기준'!$E$6<>"",$C17='제2전공 선택시 자격기준'!$E$6),COUNTIF($C$2:C17,C17),"") | J17: =IF(G17="","",G17) -> 제시된 과목 중 3과목 이상 이수 | K17: =IF(H17="","",H17) -> 평점평균 3.5 이상
A18: 미래엔지니어링융합대학 | B18: 전기전자융합학부 | C18: 전기전자공학기본트랙 | D18: E01313 | E18: 일반물리학II | F18: B0이상 | I18: =IF(AND('제2전공 선택시 자격기준'!$E$6<>"",$C18='제2전공 선택시 자격기준'!$E$6),COUNTIF($C$2:C18,C18),"") | J18: =IF(G17="","",G17) -> 제시된 과목 중 3과목 이상 이수 | K18: =IF(H17="","",H17) -> 평점평균 3.5 이상
A19: 미래엔지니어링융합대학 | B19: 전기전자융합학부 | C19: 전기전자공학기본트랙 | D19: E01316 | E19: 미적분학I | F19: B0이상 | I19: =IF(AND('제2전공 선택시 자격기준'!$E$6<>"",$C19='제2전공 선택시 자격기준'!$E$6),COUNTIF($C$2:C19,C19),"") | J19: =IF(G17="","",G17) -> 제시된 과목 중 3과목 이상 이수 | K19: =IF(H17="","",H17) -> 평점평균 3.5 이상
A20: 미래엔지니어링융합대학 | B20: 전기전자융합학부 | C20: 전기전자공학기본트랙 | D20: E01317 | E20: 미적분학II | F20: B0이상 | I20: =IF(AND('제2전공 선택시 자격기준'!$E$6<>"",$C20='제2전공 선택시 자격기준'!$E$6),COUNTIF($C$2:C20,C20),"") | J20: =IF(G17="","",G17) -> 제시된 과목 중 3과목 이상 이수 | K20: =IF(H17="","",H17) -> 평점평균 3.5 이상
A21: 미래엔지니어링융합대학 | B21: 전기전자융합학부 | C21: 전기전자공학기본트랙 | D21: E01161 | E21: 일반화학 | F21: B0이상 | I21: =IF(AND('제2전공 선택시 자격기준'!$E$6<>"",$C21='제2전공 선택시 자격기준'!$E$6),COUNTIF($C$2:C21,C21),"") | J21: =IF(G17="","",G17) -> 제시된 과목 중 3과목 이상 이수 | K21: =IF(H17="","",H17) -> 평점평균 3.5 이상
A22: 미래엔지니어링융합대학 | B22: 전기전자융합학부 | C22: 스마트반도체설계융합기본트랙 | D22: E01310 | E22: 일반물리학I | F22: B0이상 | G22: 제시된 과목 중 3과목 이상 이수 | H22: 평점평균 3.5 이상 | I22: =IF(AND('제2전공 선택시 자격기준'!$E$6<>"",$C22='제2전공 선택시 자격기준'!$E$6),COUNTIF($C$2:C22,C22),"") | J22: =IF(G22="","",G22) -> 제시된 과목 중 3과목 이상 이수 | K22: =IF(H22="","",H22) -> 평점평균 3.5 이상
A23: 미래엔지니어링융합대학 | B23: 전기전자융합학부 | C23: 스마트반도체설계융합기본트랙 | D23: E01313 | E23: 일반물리학II | F23: B0이상 | I23: =IF(AND('제2전공 선택시 자격기준'!$E$6<>"",$C23='제2전공 선택시 자격기준'!$E$6),COUNTIF($C$2:C23,C23),"") | J23: =IF(G22="","",G22) -> 제시된 과목 중 3과목 이상 이수 | K23: =IF(H22="","",H22) -> 평점평균 3.5 이상
A24: 미래엔지니어링융합대학 | B24: 전기전자융합학부 | C24: 스마트반도체설계융합기본트랙 | D24: E01316 | E24: 미적분학I | F24: B0이상 | I24: =IF(AND('제2전공 선택시 자격기준'!$E$6<>"",$C24='제2전공 선택시 자격기준'!$E$6),COUNTIF($C$2:C24,C24),"") | J24: =IF(G22="","",G22) -> 제시된 과목 중 3과목 이상 이수 | K24: =IF(H22="","",H22) -> 평점평균 3.5 이상
A25: 미래엔지니어링융합대학 | B25: 전기전자융합학부 | C25: 스마트반도체설계융합기본트랙 | D25: E01317 | E25: 미적분학II | F25: B0이상 | I25: =IF(AND('제2전공 선택시 자격기준'!$E$6<>"",$C25='제2전공 선택시 자격기준'!$E$6),COUNTIF($C$2:C25,C25),"") | J25: =IF(G22="","",G22) -> 제시된 과목 중 3과목 이상 이수 | K25: =IF(H22="","",H22) -> 평점평균 3.5 이상
A26: 미래엔지니어링융합대학 | B26: 전기전자융합학부 | C26: 스마트반도체설계융합기본트랙 | D26: E01161 | E26: 일반화학 | F26: B0이상 | I26: =IF(AND('제2전공 선택시 자격기준'!$E$6<>"",$C26='제2전공 선택시 자격기준'!$E$6),COUNTIF($C$2:C26,C26),"") | J26: =IF(G22="","",G22) -> 제시된 과목 중 3과목 이상 이수 | K26: =IF(H22="","",H22) -> 평점평균 3.5 이상
A27: 미래엔지니어링융합대학 | B27: ICT융합학부 | C27: 컴퓨터공학기본트랙 | D27: E01316 | E27: 미적분학I | F27: B0이상 | G27: 제시된 과목 중 3과목 이상 이수 | H27: 평점평균 3.5 이상 | I27: =IF(AND('제2전공 선택시 자격기준'!$E$6<>"",$C27='제2전공 선택시 자격기준'!$E$6),COUNTIF($C$2:C27,C27),"") | J27: =IF(G27="","",G27) -> 제시된 과목 중 3과목 이상 이수 | K27: =IF(H27="","",H27) -> 평점평균 3.5 이상
A28: 미래엔지니어링융합대학 | B28: ICT융합학부 | C28: 컴퓨터공학기본트랙 | D28: E01317 | E28: 미적분학II | F28: B0이상 | I28: =IF(AND('제2전공 선택시 자격기준'!$E$6<>"",$C28='제2전공 선택시 자격기준'!$E$6),COUNTIF($C$2:C28,C28),"") | J28: =IF(G27="","",G27) -> 제시된 과목 중 3과목 이상 이수 | K28: =IF(H27="","",H27) -> 평점평균 3.5 이상
A29: 미래엔지니어링융합대학 | B29: ICT융합학부 | C29: 컴퓨터공학기본트랙 | D29: A01403 | E29: 기초프로그래밍I | F29: B0이상 | I29: =IF(AND('제2전공 선택시 자격기준'!$E$6<>"",$C29='제2전공 선택시 자격기준'!$E$6),COUNTIF($C$2:C29,C29),"") | J29: =IF(G27="","",G27) -> 제시된 과목 중 3과목 이상 이수 | K29: =IF(H27="","",H27) -> 평점평균 3.5 이상
A30: 미래엔지니어링융합대학 | B30: ICT융합학부 | C30: 컴퓨터공학기본트랙 | D30: A01402 | E30: 기초프로그래밍II | F30: B0이상 | I30: =IF(AND('제2전공 선택시 자격기준'!$E$6<>"",$C30='제2전공 선택시 자격기준'!$E$6),COUNTIF($C$2:C30,C30),"") | J30: =IF(G27="","",G27) -> 제시된 과목 중 3과목 이상 이수 | K30: =IF(H27="","",H27) -> 평점평균 3.5 이상
A31: 미래엔지니어링융합대학 | B31: ICT융합학부 | C31: 컴퓨터공학기본트랙 | D31: A01521 | E31: 데이터사이언스입문 | F31: B0이상 | I31: =IF(AND('제2전공 선택시 자격기준'!$E$6<>"",$C31='제2전공 선택시 자격기준'!$E$6),COUNTIF($C$2:C31,C31),"") | J31: =IF(G27="","",G27) -> 제시된 과목 중 3과목 이상 이수 | K31: =IF(H27="","",H27) -> 평점평균 3.5 이상
A32: 미래엔지니어링융합대학 | B32: ICT융합학부 | C32: 컴퓨터공학기본트랙 | D32: EN0010 | E32: 공학프로그래밍 | F32: B0이상 | I32: =IF(AND('제2전공 선택시 자격기준'!$E$6<>"",$C32='제2전공 선택시 자격기준'!$E$6),COUNTIF($C$2:C32,C32),"") | J32: =IF(G27="","",G27) -> 제시된 과목 중 3과목 이상 이수 | K32: =IF(H27="","",H27) -> 평점평균 3.5 이상
A33: 미래엔지니어링융합대학 | B33: ICT융합학부 | C33: 컴퓨터공학기본트랙 | D33: G02891 | E33: 프로그래밍언어 | F33: B0이상 | I33: =IF(AND('제2전공 선택시 자격기준'!$E$6<>"",$C33='제2전공 선택시 자격기준'!$E$6),COUNTIF($C$2:C33,C33),"") | J33: =IF(G27="","",G27) -> 제시된 과목 중 3과목 이상 이수 | K33: =IF(H27="","",H27) -> 평점평균 3.5 이상
A34: 미래엔지니어링융합대학 | B34: ICT융합학부 | C34: 컴퓨터공학기본트랙 | D34: G03853 | E34: 프로그래밍언어 | F34: B0이상 | I34: =IF(AND('제2전공 선택시 자격기준'!$E$6<>"",$C34='제2전공 선택시 자격기준'!$E$6),COUNTIF($C$2:C34,C34),"") | J34: =IF(G27="","",G27) -> 제시된 과목 중 3과목 이상 이수 | K34: =IF(H27="","",H27) -> 평점평균 3.5 이상
A35: 미래엔지니어링융합대학 | B35: ICT융합학부 | C35: 컴퓨터공학기본트랙 | D35: A01487 | E35: AI시대의의사소통과글쓰기기초 | F35: B0이상 | I35: =IF(AND('제2전공 선택시 자격기준'!$E$6<>"",$C35='제2전공 선택시 자격기준'!$E$6),COUNTIF($C$2:C35,C35),"") | J35: =IF(G27="","",G27) -> 제시된 과목 중 3과목 이상 이수 | K35: =IF(H27="","",H27) -> 평점평균 3.5 이상
A36: 미래엔지니어링융합대학 | B36: ICT융합학부 | C36: 인공지능기본트랙 | D36: E01316 | E36: 미적분학I | F36: B0이상 | G36: 제시된 과목 중 3과목 이상 이수 | H36: 평점평균 3.5 이상 | I36: =IF(AND('제2전공 선택시 자격기준'!$E$6<>"",$C36='제2전공 선택시 자격기준'!$E$6),COUNTIF($C$2:C36,C36),"") | J36: =IF(G36="","",G36) -> 제시된 과목 중 3과목 이상 이수 | K36: =IF(H36="","",H36) -> 평점평균 3.5 이상
A37: 미래엔지니어링융합대학 | B37: ICT융합학부 | C37: 인공지능기본트랙 | D37: E01317 | E37: 미적분학II | F37: B0이상 | I37: =IF(AND('제2전공 선택시 자격기준'!$E$6<>"",$C37='제2전공 선택시 자격기준'!$E$6),COUNTIF($C$2:C37,C37),"") | J37: =IF(G36="","",G36) -> 제시된 과목 중 3과목 이상 이수 | K37: =IF(H36="","",H36) -> 평점평균 3.5 이상
A38: 미래엔지니어링융합대학 | B38: ICT융합학부 | C38: 인공지능기본트랙 | D38: A01403 | E38: 기초프로그래밍I | F38: B0이상 | I38: =IF(AND('제2전공 선택시 자격기준'!$E$6<>"",$C38='제2전공 선택시 자격기준'!$E$6),COUNTIF($C$2:C38,C38),"") | J38: =IF(G36="","",G36) -> 제시된 과목 중 3과목 이상 이수 | K38: =IF(H36="","",H36) -> 평점평균 3.5 이상
A39: 미래엔지니어링융합대학 | B39: ICT융합학부 | C39: 인공지능기본트랙 | D39: A01402 | E39: 기초프로그래밍II | F39: B0이상 | I39: =IF(AND('제2전공 선택시 자격기준'!$E$6<>"",$C39='제2전공 선택시 자격기준'!$E$6),COUNTIF($C$2:C39,C39),"") | J39: =IF(G36="","",G36) -> 제시된 과목 중 3과목 이상 이수 | K39: =IF(H36="","",H36) -> 평점평균 3.5 이상
A40: 미래엔지니어링융합대학 | B40: ICT융합학부 | C40: 인공지능기본트랙 | D40: A01521 | E40: 데이터사이언스입문 | F40: B0이상 | I40: =IF(AND('제2전공 선택시 자격기준'!$E$6<>"",$C40='제2전공 선택시 자격기준'!$E$6),COUNTIF($C$2:C40,C40),"") | J40: =IF(G36="","",G36) -> 제시된 과목 중 3과목 이상 이수 | K40: =IF(H36="","",H36) -> 평점평균 3.5 이상
A41: 미래엔지니어링융합대학 | B41: ICT융합학부 | C41: 인공지능기본트랙 | D41: EN0010 | E41: 공학프로그래밍 | F41: B0이상 | I41: =IF(AND('제2전공 선택시 자격기준'!$E$6<>"",$C41='제2전공 선택시 자격기준'!$E$6),COUNTIF($C$2:C41,C41),"") | J41: =IF(G36="","",G36) -> 제시된 과목 중 3과목 이상 이수 | K41: =IF(H36="","",H36) -> 평점평균 3.5 이상
A42: 미래엔지니어링융합대학 | B42: ICT융합학부 | C42: 인공지능기본트랙 | D42: G02891 | E42: 프로그래밍언어 | F42: B0이상 | I42: =IF(AND('제2전공 선택시 자격기준'!$E$6<>"",$C42='제2전공 선택시 자격기준'!$E$6),COUNTIF($C$2:C42,C42),"") | J42: =IF(G36="","",G36) -> 제시된 과목 중 3과목 이상 이수 | K42: =IF(H36="","",H36) -> 평점평균 3.5 이상
A43: 미래엔지니어링융합대학 | B43: ICT융합학부 | C43: 인공지능기본트랙 | D43: G03853 | E43: 프로그래밍언어 | F43: B0이상 | I43: =IF(AND('제2전공 선택시 자격기준'!$E$6<>"",$C43='제2전공 선택시 자격기준'!$E$6),COUNTIF($C$2:C43,C43),"") | J43: =IF(G36="","",G36) -> 제시된 과목 중 3과목 이상 이수 | K43: =IF(H36="","",H36) -> 평점평균 3.5 이상
A44: 미래엔지니어링융합대학 | B44: ICT융합학부 | C44: 인공지능기본트랙 | D44: A01487 | E44: AI시대의의사소통과글쓰기기초 | F44: B0이상 | I44: =IF(AND('제2전공 선택시 자격기준'!$E$6<>"",$C44='제2전공 선택시 자격기준'!$E$6),COUNTIF($C$2:C44,C44),"") | J44: =IF(G36="","",G36) -> 제시된 과목 중 3과목 이상 이수 | K44: =IF(H36="","",H36) -> 평점평균 3.5 이상
A45: 미래엔지니어링융합대학 | B45: ICT융합학부 | C45: 산업ICT공학기본트랙 | D45: - | E45: - | F45: - | G45: - | H45: - | I45: =IF(AND('제2전공 선택시 자격기준'!$E$6<>"",$C45='제2전공 선택시 자격기준'!$E$6),COUNTIF($C$2:C45,C45),"") | J45: =IF(G45="","",G45) -> - | K45: =IF(H45="","",H45) -> -
A46: 미래엔지니어링융합대학 | B46: ICT융합학부 | C46: 산업안전공학기본트랙 | D46: - | E46: - | F46: - | G46: - | H46: - | I46: =IF(AND('제2전공 선택시 자격기준'!$E$6<>"",$C46='제2전공 선택시 자격기준'!$E$6),COUNTIF($C$2:C46,C46),"") | J46: =IF(G46="","",G46) -> - | K46: =IF(H46="","",H46) -> -
A47: 미래엔지니어링융합대학 | B47: ICT융합학부 | C47: 데이터응용수학기본트랙 | D47: - | E47: - | F47: - | G47: - | H47: - | I47: =IF(AND('제2전공 선택시 자격기준'!$E$6<>"",$C47='제2전공 선택시 자격기준'!$E$6),COUNTIF($C$2:C47,C47),"") | J47: =IF(G47="","",G47) -> - | K47: =IF(H47="","",H47) -> -
A48: 미래엔지니어링융합대학 | B48: 바이오메디컬헬스학부 | C48: 의생명공학기본트랙 | D48: - | E48: - | F48: - | G48: - | H48: - | I48: =IF(AND('제2전공 선택시 자격기준'!$E$6<>"",$C48='제2전공 선택시 자격기준'!$E$6),COUNTIF($C$2:C48,C48),"") | J48: =IF(G48="","",G48) -> - | K48: =IF(H48="","",H48) -> -
A49: 미래엔지니어링융합대학 | B49: 바이오메디컬헬스학부 | C49: 식품영양학기본트랙 | D49: - | E49: - | F49: - | G49: - | H49: - | I49: =IF(AND('제2전공 선택시 자격기준'!$E$6<>"",$C49='제2전공 선택시 자격기준'!$E$6),COUNTIF($C$2:C49,C49),"") | J49: =IF(G49="","",G49) -> - | K49: =IF(H49="","",H49) -> -
A50: 미래엔지니어링융합대학 | B50: 바이오메디컬헬스학부 | C50: 디지털의료공학기본트랙 | D50: - | E50: - | F50: - | G50: - | H50: - | I50: =IF(AND('제2전공 선택시 자격기준'!$E$6<>"",$C50='제2전공 선택시 자격기준'!$E$6),COUNTIF($C$2:C50,C50),"") | J50: =IF(G50="","",G50) -> - | K50: =IF(H50="","",H50) -> -
A51: 스마트도시융합대학 | B51: 건축·도시환경학부 | C51: 건축공학기본트랙 | D51: - | E51: - | F51: - | G51: - | H51: - | I51: =IF(AND('제2전공 선택시 자격기준'!$E$6<>"",$C51='제2전공 선택시 자격기준'!$E$6),COUNTIF($C$2:C51,C51),"") | J51: =IF(G51="","",G51) -> - | K51: =IF(H51="","",H51) -> -
A52: 스마트도시융합대학 | B52: 건축·도시환경학부 | C52: 건설환경공학기본트랙 | D52: E01316 | E52: 미적분학I | F52: D0이상 | G52: 필수 이수 | H52: - | I52: =IF(AND('제2전공 선택시 자격기준'!$E$6<>"",$C52='제2전공 선택시 자격기준'!$E$6),COUNTIF($C$2:C52,C52),"") | J52: =IF(G52="","",G52) -> 필수 이수 | K52: =IF(H52="","",H52) -> -
A53: 스마트도시융합대학 | B53: 건축·도시환경학부 | C53: 건설환경공학기본트랙 | D53: E01310 | E53: 일반물리학I | F53: D0이상 | G53: 필수 이수 | H53: - | I53: =IF(AND('제2전공 선택시 자격기준'!$E$6<>"",$C53='제2전공 선택시 자격기준'!$E$6),COUNTIF($C$2:C53,C53),"") | J53: =IF(G53="","",G53) -> 필수 이수 | K53: =IF(H53="","",H53) -> -
A54: 스마트도시융합대학 | B54: 건축·도시환경학부 | C54: 실내건축학기본트랙 | D54: - | E54: - | F54: - | G54: - | H54: - | I54: =IF(AND('제2전공 선택시 자격기준'!$E$6<>"",$C54='제2전공 선택시 자격기준'!$E$6),COUNTIF($C$2:C54,C54),"") | J54: =IF(G54="","",G54) -> - | K54: =IF(H54="","",H54) -> -
A55: 스마트도시융합대학 | B55: 디자인융합학부 | C55: 산업디자인학기본트랙 | D55: - | E55: - | F55: - | G55: - | H55: 평점평균 2.5 이상 | I55: =IF(AND('제2전공 선택시 자격기준'!$E$6<>"",$C55='제2전공 선택시 자격기준'!$E$6),COUNTIF($C$2:C55,C55),"") | J55: =IF(G55="","",G55) -> - | K55: =IF(H55="","",H55) -> 평점평균 2.5 이상
A56: 스마트도시융합대학 | B56: 디자인융합학부 | C56: 시각디자인학기본트랙 | D56: - | E56: - | F56: - | G56: - | H56: 평점평균 3.0 이상 | I56: =IF(AND('제2전공 선택시 자격기준'!$E$6<>"",$C56='제2전공 선택시 자격기준'!$E$6),COUNTIF($C$2:C56,C56),"") | J56: =IF(G56="","",G56) -> - | K56: =IF(H56="","",H56) -> 평점평균 3.0 이상
... A87: 인문예술대학 | B87: 예술학부 | C87: 미디어아트·회화기본트랙 | D87: - | E87: - | F87: - | G87: - | H87: 평점평균 2.0 이상 | I87: =IF(AND('제2전공 선택시 자격기준'!$E$6<>"",$C87='제2전공 선택시 자격기준'!$E$6),COUNTIF($C$2:C87,C87),"") | J87: =IF(G87="","",G87) -> - | K87: =IF(H87="","",H87) -> 평점평균 2.0 이상
A90: 건설환경공학기본트랙
A91: 건축공학기본트랙
A92: 경영학기본트랙
A93: 경제학기본트랙
A94: 경찰학기본트랙
A95: 국어국문학기본트랙
A96: 국제관계학기본트랙
A97: 국제지역·통상학융복합트랙
A98: 글로벌마이스(MICE)융복합트랙
A99: 글로벌커뮤니케이션기본트랙
A100: 기계자동차공학기본트랙
A101: 기후변화융합융복합트랙
... A141: 회계학기본트랙
